BEGIN:VCALENDAR
VERSION:2.0
PRODID:-//CommonSense Mediation Academy - ECPv6.15.20//NONSGML v1.0//EN
CALSCALE:GREGORIAN
METHOD:PUBLISH
X-WR-CALNAME:CommonSense Mediation Academy
X-ORIGINAL-URL:https://commonsensemediation.ca
X-WR-CALDESC:Events for CommonSense Mediation Academy
REFRESH-INTERVAL;VALUE=DURATION:PT1H
X-Robots-Tag:noindex
X-PUBLISHED-TTL:PT1H
BEGIN:VTIMEZONE
TZID:UTC
BEGIN:STANDARD
TZOFFSETFROM:+0000
TZOFFSETTO:+0000
TZNAME:UTC
DTSTART:20250101T000000
END:STANDARD
END:VTIMEZONE
BEGIN:VEVENT
DTSTART;VALUE=DATE:20260508
DTEND;VALUE=DATE:20260510
DTSTAMP:20260420T005439
CREATED:20260103T183040Z
LAST-MODIFIED:20260103T235055Z
UID:8583-1778198400-1778371199@commonsensemediation.ca
SUMMARY:Mediating Parenting Agreements
DESCRIPTION:May 8 & 9\, 2026  \n12:00 PM (NOON) – 5:30 PM \nThis training is a deep look at the legal components and considerations for parenting through and after separation and divorce. \nRegister for this course if you are seeking to obtain your family law training hours to apply to be a recognized early family dispute resolution service provider in Saskatchewan. \nREGISTER HERE → \nFor more information\, email: admin@commonsensemediation.ca
URL:https://commonsensemediation.ca/event/mediating-parenting-agreements-2026/
ATTACH;FMTTYPE=image/png:https://commonsensemediation.ca/wp-content/uploads/2023/02/Parenting-Plan.png
END:VEVENT
BEGIN:VEVENT
DTSTART;VALUE=DATE:20260911
DTEND;VALUE=DATE:20260913
DTSTAMP:20260420T005439
CREATED:20260103T185810Z
LAST-MODIFIED:20260104T000020Z
UID:8566-1789084800-1789257599@commonsensemediation.ca
SUMMARY:Mediating Property Division
DESCRIPTION:September 11 & 12\, 2026 \n12:00 PM (NOON) – 5:30 PM \nThis course is a deep look at the legal components and considerations for mediating property division in Saskatchewan. \nIf you are seeking family law training hours for the purpose of applying to be a recognized family mediator in Saskatchewan\, this course is for you! \nREGISTER HERE → \nFor more information\, email: admin@commonsensemediation.ca
URL:https://commonsensemediation.ca/event/mediating-property-division-2026/
ATTACH;FMTTYPE=image/png:https://commonsensemediation.ca/wp-content/uploads/2023/02/Property-Division.png
END:VEVENT
BEGIN:VEVENT
DTSTART;VALUE=DATE:20261113
DTEND;VALUE=DATE:20261115
DTSTAMP:20260420T005439
CREATED:20260103T190404Z
LAST-MODIFIED:20260104T000509Z
UID:8568-1794528000-1794700799@commonsensemediation.ca
SUMMARY:Mediating Financial Support
DESCRIPTION:November 13 & 14\, 2026  \n12:00 PM (NOON) – 5:30 PM \nThis course is a deep look at the legal components and considerations for mediating financial support in the family mediation context. \nRegister for this course if you are looking to obtain your family law training to apply to be a recognized family mediator in Saskatchewan. \nREGISTER HERE → \nFor more information\, email: admin@commonsensemediation.ca
URL:https://commonsensemediation.ca/event/mediating-financial-support-2026/
ATTACH;FMTTYPE=image/png:https://commonsensemediation.ca/wp-content/uploads/2022/05/Financial-Support.png
END:VEVENT
END:VCALENDAR