BEGIN:VCALENDAR
VERSION:2.0
PRODID:-//CommonSense Mediation Academy - ECPv6.15.20//NONSGML v1.0//EN
CALSCALE:GREGORIAN
METHOD:PUBLISH
X-WR-CALNAME:CommonSense Mediation Academy
X-ORIGINAL-URL:https://commonsensemediation.ca
X-WR-CALDESC:Events for CommonSense Mediation Academy
REFRESH-INTERVAL;VALUE=DURATION:PT1H
X-Robots-Tag:noindex
X-PUBLISHED-TTL:PT1H
BEGIN:VTIMEZONE
TZID:UTC
BEGIN:STANDARD
TZOFFSETFROM:+0000
TZOFFSETTO:+0000
TZNAME:UTC
DTSTART:20240101T000000
END:STANDARD
END:VTIMEZONE
BEGIN:VEVENT
DTSTART;VALUE=DATE:20260305
DTEND;VALUE=DATE:20260315
DTSTAMP:20260423T121819
CREATED:20260103T181510Z
LAST-MODIFIED:20260103T235557Z
UID:9259-1772668800-1773532799@commonsensemediation.ca
SUMMARY:Family Mediation Part 1 & Part II
DESCRIPTION:Part I: March 5\,6\,7\, 2026  \n11:00 AM – 6:00 PM  \n&  \nPart II: March 12\, 13\, 14\, 2026  \n11:00 AM – 6:00 PM \nIn this training\, participants will learn how to apply mediation theory to family conflicts and disputes. Prior mediation training or experience recommended. \nThis course is recommended for practitioners who would like to apply to be recognized as early family dispute resolution providers on the Minister’s List in Saskatchewan. \n\n\n\n\nREGISTER HERE → \nFor more information\, email: admin@commonsensemediation.ca
URL:https://commonsensemediation.ca/event/family-mediation-part-1-part-ii-2026/
ATTACH;FMTTYPE=image/jpeg:https://commonsensemediation.ca/wp-content/uploads/2021/01/Depositphotos_190919856_l-2015.jpg
END:VEVENT
BEGIN:VEVENT
DTSTART;VALUE=DATE:20260115
DTEND;VALUE=DATE:20260117
DTSTAMP:20260423T121819
CREATED:20260103T180031Z
LAST-MODIFIED:20260104T001211Z
UID:9252-1768435200-1768607999@commonsensemediation.ca
SUMMARY:IPV Training
DESCRIPTION:January 15 & 16\, 2026  \n12:00 PM (NOON) – 5:30 PM \nThis two-day training will provide you with the context for how to screen for and manage the dynamics of intimate partner violence within the mediation and dispute resolution process. \nThis training is recommended for family dispute resolution practitioners\, such as mediators\, arbitrators\, lawyers\, and parenting coordinators. \nREGISTER HERE → \nFor more information\, email: admin@commonsensemediation.ca
URL:https://commonsensemediation.ca/event/ipv-training-2026/
ATTACH;FMTTYPE=image/png:https://commonsensemediation.ca/wp-content/uploads/2023/02/IPV-Screening-and-management.png
END:VEVENT
BEGIN:VEVENT
DTSTART;VALUE=DATE:20250924
DTEND;VALUE=DATE:20250927
DTSTAMP:20260423T121819
CREATED:20241230T160451Z
LAST-MODIFIED:20241230T160513Z
UID:8580-1758672000-1758931199@commonsensemediation.ca
SUMMARY:Family Mediation Part II
DESCRIPTION:Part II September 24 – 26\, 12 NOON – 5:30 PM \nIn-Person \n\n\nThis mediation training equips professionals with the skills to navigate family dynamics to help their clients reach satisfactory resolutions.\n\n\nThis course is ideal for people who want to become a recognized family mediator under section 7-4 of The King’s Bench Act\, 2023.\n\n\nRegister Here \nFor more information\, email: admin@commonsensemediation.ca
URL:https://commonsensemediation.ca/event/family-mediation-part-ii-2/
ATTACH;FMTTYPE=image/jpeg:https://commonsensemediation.ca/wp-content/uploads/2021/01/Depositphotos_190919856_l-2015.jpg
ORGANIZER;CN="CommonSense Mediation Academy":MAILTO:admin@commonsensemediation.ca
END:VEVENT
BEGIN:VEVENT
DTSTART;VALUE=DATE:20250910
DTEND;VALUE=DATE:20250913
DTSTAMP:20260423T121819
CREATED:20241230T160410Z
LAST-MODIFIED:20250101T141911Z
UID:8578-1757462400-1757721599@commonsensemediation.ca
SUMMARY:Family Mediation
DESCRIPTION:September 10 – 12\, 12 NOON – 5:30 PM &  \nPart II September 24 – 26\, 12 NOON – 5:30 PM \nIn-Person \n\n\nThis mediation training equips professionals with the skills to navigate family dynamics to help their clients reach satisfactory resolutions.\n\n\nThis course is ideal for people who want to become a recognized family mediator under section 7-4 of The King’s Bench Act\, 2023.\n\n\nRegister Here \nFor more information\, email: admin@commonsensemediation.ca
URL:https://commonsensemediation.ca/event/family-mediation/
ATTACH;FMTTYPE=image/jpeg:https://commonsensemediation.ca/wp-content/uploads/2021/01/Depositphotos_190919856_l-2015.jpg
ORGANIZER;CN="CommonSense Mediation Academy":MAILTO:admin@commonsensemediation.ca
END:VEVENT
BEGIN:VEVENT
DTSTART;VALUE=DATE:20250908
DTEND;VALUE=DATE:20251010
DTSTAMP:20260423T121819
CREATED:20250623T132202Z
LAST-MODIFIED:20250623T132931Z
UID:8982-1757289600-1760054399@commonsensemediation.ca
SUMMARY:Family Justice 1: Conflict Engagement\, Conflict Resolution and Communication
DESCRIPTION:This first micro-credential course provided by the University of Saskatchewan College of Law (USask Law) is aimed at family law practitioners.\nThe course is designed to equip family law practitioners and family service providers with essential skills in conflict engagement\, resolution\, and effective communication. It will be a blend of asynchronous online learning and interactive weekly synchronous sessions\, culminating in a hybrid final session\, meaning students can attend online or in person. \n  \nCPD Information\nThis course qualifies for 12 CPD hours with the Law Society of Saskatchewan\, including 12 Ethics hours. \n  \nInstructor: Charmaine Panko\, KC\, Collaborative Lawyer and Mediator \nDate: Sep 08\, 2025 to Oct 09\, 2025 \n  \nMore Information \n  \nREGISTER HERE → \n  \n 
URL:https://commonsensemediation.ca/event/family-justice-1-conflict-engagement-conflict-resolution-and-communication/
LOCATION:University of SK
ATTACH;FMTTYPE=image/png:https://commonsensemediation.ca/wp-content/uploads/2025/06/Untitled-81.png
END:VEVENT
BEGIN:VEVENT
DTSTART;VALUE=DATE:20250807
DTEND;VALUE=DATE:20250809
DTSTAMP:20260423T121819
CREATED:20241230T155912Z
LAST-MODIFIED:20250101T142013Z
UID:8575-1754524800-1754697599@commonsensemediation.ca
SUMMARY:Mediation Basics III
DESCRIPTION:August 7 & 8\, 12 NOON – 5:30 PM \nIn-Person \nThis new course is the third of the three-part series delivered in-person. In this training\, participants will explore the ethics of mediation by analyzing ethical dilemmas and will learn information about how to practice mediation professionally. \nRegister Here \nFor more information\, email: admin@commonsensemediation.ca
URL:https://commonsensemediation.ca/event/mediation-basics-iii/
ATTACH;FMTTYPE=image/png:https://commonsensemediation.ca/wp-content/uploads/2024/06/Mediation-solution.png
ORGANIZER;CN="CommonSense Mediation Academy":MAILTO:admin@commonsensemediation.ca
END:VEVENT
BEGIN:VEVENT
DTSTART;VALUE=DATE:20250710
DTEND;VALUE=DATE:20250712
DTSTAMP:20260423T121819
CREATED:20241230T155753Z
LAST-MODIFIED:20250101T141946Z
UID:8572-1752105600-1752278399@commonsensemediation.ca
SUMMARY:Mediation Basics II
DESCRIPTION:July 10 & 11\, 12 NOON – 5:30 PM \nIn-Person \nThis new course is the second of a three-part series delivered in-person. In this training\, participants will practice roleplay scenarios applying the basics of interest-base mediation. \nRegister Here \nFor more information\, email: admin@commonsensemediation.ca
URL:https://commonsensemediation.ca/event/mediation-basics-ii/
ATTACH;FMTTYPE=image/png:https://commonsensemediation.ca/wp-content/uploads/2024/06/Mediation-solution.png
ORGANIZER;CN="CommonSense Mediation Academy":MAILTO:admin@commonsensemediation.ca
END:VEVENT
BEGIN:VEVENT
DTSTART;VALUE=DATE:20250605
DTEND;VALUE=DATE:20250607
DTSTAMP:20260423T121819
CREATED:20241230T155623Z
LAST-MODIFIED:20250101T142455Z
UID:8570-1749081600-1749254399@commonsensemediation.ca
SUMMARY:Mediation Basics I
DESCRIPTION:June 5 & 6\, 12 NOON – 5:30 PM \nIn-Person \nThis new course is the first of a three-part series delivered in-person. In this training\, participants will learn the basics of interest-based mediation and how to apply it in real-world situations. \nRegister Here \nFor more information\, email: admin@commonsensemediation.ca
URL:https://commonsensemediation.ca/event/mediation-basics-i/
ATTACH;FMTTYPE=image/png:https://commonsensemediation.ca/wp-content/uploads/2024/06/Mediation-solution.png
ORGANIZER;CN="CommonSense Mediation Academy":MAILTO:admin@commonsensemediation.ca
END:VEVENT
BEGIN:VEVENT
DTSTART;VALUE=DATE:20250306
DTEND;VALUE=DATE:20250308
DTSTAMP:20260423T121819
CREATED:20241230T155024Z
LAST-MODIFIED:20250101T142620Z
UID:8564-1741219200-1741391999@commonsensemediation.ca
SUMMARY:Mediating Parenting Agreements
DESCRIPTION:March 6 & 7\, 12 NOON – 5:30 PM \nHybrid (In-Person or Virtual) \nIn this course\, professionals will learn how to navigate the dynamics of co-parents to help their clients achieve satisfactory parenting agreements. \nThis course is ideal for people who are seeking family law training for the purposes of becoming a recognized family mediator under section 7-4 of The King’s Bench Act\, 2023. \nRegister Here \nFor more information\, email: admin@commonsensemediation.ca
URL:https://commonsensemediation.ca/event/mediating-parenting-agreements/
ATTACH;FMTTYPE=image/png:https://commonsensemediation.ca/wp-content/uploads/2023/02/Parenting-Plan.png
END:VEVENT
BEGIN:VEVENT
DTSTART;VALUE=DATE:20250219
DTEND;VALUE=DATE:20250222
DTSTAMP:20260423T121819
CREATED:20241230T154814Z
LAST-MODIFIED:20241230T154814Z
UID:8561-1739923200-1740182399@commonsensemediation.ca
SUMMARY:Family Mediation Part II
DESCRIPTION:Part II February 19 – 21\, 12 NOON – 5:30 PM \nIn-Person \nThis mediation training equips professionals with the skills to navigate family dynamics to help their clients reach satisfactory resolutions. \nThis course is ideal for people who want to become a recognized family mediator under section 7-4 of The King’s Bench Act\, 2023. \nRegister Here \nFor more information\, email: admin@commonsensemediation.ca
URL:https://commonsensemediation.ca/event/family-mediation-part-ii/
ATTACH;FMTTYPE=image/png:https://commonsensemediation.ca/wp-content/uploads/2022/05/Introducation-to-Family-Mediation.png
END:VEVENT
BEGIN:VEVENT
DTSTART;VALUE=DATE:20250205
DTEND;VALUE=DATE:20250208
DTSTAMP:20260423T121819
CREATED:20241230T154708Z
LAST-MODIFIED:20250101T142724Z
UID:8559-1738713600-1738972799@commonsensemediation.ca
SUMMARY:Family Mediation
DESCRIPTION:February 5 – 7\, 12 NOON – 5:30 PM & Part II February 19 – 21\, 12 NOON – 5:30 PM \nIn-Person \nThis mediation training equips professionals with the skills to navigate family dynamics to help their clients reach satisfactory resolutions. \nThis course is ideal for people who want to become a recognized family mediator under section 7-4 of The King’s Bench Act\, 2023. \nRegister Here \nFor more information\, email: admin@commonsensemediation.ca
URL:https://commonsensemediation.ca/event/family-mediation-part-i/
ATTACH;FMTTYPE=image/png:https://commonsensemediation.ca/wp-content/uploads/2022/05/Introducation-to-Family-Mediation.png
END:VEVENT
BEGIN:VEVENT
DTSTART;VALUE=DATE:20250204
DTEND;VALUE=DATE:20250205
DTSTAMP:20260423T121819
CREATED:20241230T151948Z
LAST-MODIFIED:20241230T153805Z
UID:8552-1738627200-1738713599@commonsensemediation.ca
SUMMARY:Mediation Practice Group - February 4\, 2025
DESCRIPTION:First Tuesday of every month\, 12:00 pm (Noon) or 7:00 pm (Virtual) \nJoin a network of like-minded dispute resolution professionals! \nThis group is for people who are seeking to improve their skills and network with others. \nSome sessions will be question and answer\, and others will be roleplay sessions for people to practice their skills. Each session is helpful for continuing and ongoing professional development. \nIf you are taking our virtual online courses\, it is important you attend these live sessions to practice your skills and meet other professionals and students. \nRegister Here \nFor more information\, email: admin@commonsensemediation.ca
URL:https://commonsensemediation.ca/event/mediation-practice-group-february-4-2025/
ATTACH;FMTTYPE=image/png:https://commonsensemediation.ca/wp-content/uploads/2021/10/Practise-Group.png
ORGANIZER;CN="CommonSense Mediation Academy":MAILTO:admin@commonsensemediation.ca
END:VEVENT
BEGIN:VEVENT
DTSTART;VALUE=DATE:20250114
DTEND;VALUE=DATE:20250118
DTSTAMP:20260423T121819
CREATED:20241230T153938Z
LAST-MODIFIED:20250101T142806Z
UID:8554-1736812800-1737158399@commonsensemediation.ca
SUMMARY:CORE Safe & Together Training
DESCRIPTION:January 14 – 17\, 8 AM – 5 PM \nIn-Person \nCORE is a four-day training designed to provide a skills-oriented foundation for domestic abuse-informed practice. Each day will provide key skills and learnings for participants to implement the Safe & Together Model into their practice. \nEach day of training provides experiential classroom training focused on the following foundational practice areas: \nDay 1 – Assessment \nDay 2 – Interviewing \nDay 3 – Documentation \nDay 4 – Case Planning \nCORE Training explores the importance of: \n\nIdentifying the impact of domestic violence on children and family functioning.\nGathering a fact-based assessment of the perpetrators’ behavior patterns.\nPartnering with adult survivors of domestic violence.\nIntervening with perpetrators.\nUnderstanding how domestic violence intersects with other issues like substance abuse and mental health.\n\nParticipants of the CORE Training will: \n\nLearn to use Safe & Together’s practice tools\, such as Mapping Perpetrators’ Patterns and Multiple Pathways to Harm\, to improve assessment of risk\, impact on children\, survivor protective efforts and essential case decisions.\nPractice interviewing perpetrators\, survivors and children through modeling\, role play and videos.\nImprove their domestic abuse-informed documentation through individual and group exercises.\nDiscuss their own current or past cases and explore how the Safe & Together Model could be utilized in similar cases in the future.\n\nAlso included in CORE Training: \n\nParticipants will develop Action Plans to support implementation of the Model into their day-to-day practice and to influence their communities and family service systems to become more domestic abuse-informed.\nParticipants will complete a pre-and post-test to reflect on their progress in learning and give a training evaluation.\nParticipants who attend all four days and take the post-test will receive a certificate of completion for their 22 training hours.\nParticipants who complete all four days and score an 80% or higher on the CORE Training post-test will meet one of the prerequisites for becoming a Safe & Together Model Certified Trainer.\n\nWho is CORE Training for? \n\nChild Welfare Practitioners\nDomestic Violence Advocates\nSubstance Abuse Treatment\, Mental Health and other community service providers\nBatterer Intervention or Men’s Behavior Change staff\nCourt and Legal Personnel\nLaw Enforcement\nHealth and Home Visitors\nAnyone working with families impacted by domestic violence\n\nCourse Offering: \nTuesday\, January 14\, Wednesday\, January 15\, Thursday\, January 16\, & Frida\,y January 17 \n8 AM – 5 PM\, daily \nSnacks & Refreshments are provided; lunch is not included – there is 1 hour for lunch and many wonderful places to eat within walking distance of the training venue. You are also welcome to bring lunch and eat it in the training venue. \nCourse Trainer: \nKathryn Boyce\, Project Coordinator with PATHS\, is certified in instructing the Safe & Together model and brings a wealth of experience and knowledge to facilitate this course. \nRegister Here \nFor more information\, email: admin@commonsensemediation.ca
URL:https://commonsensemediation.ca/event/core-safe-together-training/
ATTACH;FMTTYPE=image/jpeg:https://commonsensemediation.ca/wp-content/uploads/2024/11/image001.jpg
END:VEVENT
END:VCALENDAR